BEGIN:VCALENDAR
VERSION:2.0
PRODID:icalendar-ruby
CALSCALE:GREGORIAN
METHOD:PUBLISH
BEGIN:VEVENT
DTSTAMP:20191220T064539Z
UID:https://www.smartrealestate.co.nz/property?property_id=416598
DTSTART:20190716T153000
DTEND:20190716T160000
CLASS:PUBLIC
CREATED:20190625T161218
DESCRIPTION: 
LAST-MODIFIED:20190822T124641
LOCATION:21 Cole Porter Avenue\, MAIREHAU\, CHRISTCHURCH CITY\, CANTERBURY\
 , New Zealand
SUMMARY:21 Cole Porter Avenue\,  Auction
URL:https://www.smartrealestate.co.nz/property?property_id=416598
END:VEVENT
END:VCALENDAR
